BEGIN:VCALENDAR
VERSION:2.0
PRODID:-//МКЦ - ECPv4.1.0.1//NONSGML v1.0//EN
CALSCALE:GREGORIAN
METHOD:PUBLISH
X-WR-CALNAME:МКЦ
X-ORIGINAL-URL:http://kozlovskyi-center.com.ua
X-WR-CALDESC:Events for МКЦ
BEGIN:VEVENT
DTSTART;TZID="UTC+3":20220223T190000
DTEND;TZID="UTC+3":20220223T190000
DTSTAMP:20260419T140935
CREATED:20220125T094148
LAST-MODIFIED:20220125T152738
UID:4049-1645642800-1645642800@kozlovskyi-center.com.ua
SUMMARY:ЧОЛОВІЧІ РОЗМОВИ
DESCRIPTION:
URL:http://kozlovskyi-center.com.ua/event/bilya-bilogo-royalyu-cholovichi-rozmovy-z-aktorom-teatru-i-kino-borysom-georgiyevskym/
END:VEVENT
END:VCALENDAR